BEGIN:VCALENDAR
VERSION:2.0
PRODID:-//Lasel.de - ECPv6.14.1//NONSGML v1.0//EN
CALSCALE:GREGORIAN
METHOD:PUBLISH
X-ORIGINAL-URL:https://lasel.de
X-WR-CALDESC:Veranstaltungen für Lasel.de
REFRESH-INTERVAL;VALUE=DURATION:PT1H
X-Robots-Tag:noindex
X-PUBLISHED-TTL:PT1H
BEGIN:VTIMEZONE
TZID:Europe/Berlin
BEGIN:DAYLIGHT
TZOFFSETFROM:+0100
TZOFFSETTO:+0200
TZNAME:CEST
DTSTART:20230326T010000
END:DAYLIGHT
BEGIN:STANDARD
TZOFFSETFROM:+0200
TZOFFSETTO:+0100
TZNAME:CET
DTSTART:20231029T010000
END:STANDARD
END:VTIMEZONE
BEGIN:VEVENT
DTSTART;TZID=Europe/Berlin:20231202T173000
DTEND;TZID=Europe/Berlin:20231202T233000
DTSTAMP:20260421T095349
CREATED:20231114T162331Z
LAST-MODIFIED:20231114T162331Z
UID:1905-1701538200-1701559800@lasel.de
SUMMARY:Einstimmen auf den Advent
DESCRIPTION:„Die Adventszeit ist eine Zeit\, in der man Zeit hat\, darüber nachzudenken\, wofür es sich lohnt\, sich Zeit zu nehmen.“ (Gudrun Kropp) \nGanz unter diesem Motto lädt die Frauengemeinschaft Lasel auch in diesem Jahr wieder ein\, um gemeinsam die besinnliche Vorweihnachtszeit bei Glühwein und Gebäck einzuläuten. \nNach der Vorabendmesse als Rorateamt zum 1. Advent am Samstag\, den 02.12.23 um 17:30 Uhr steht die Tür des Pfarrhauses allen offen\, die Lust haben\, ihren Abend bei gemütlicher Stimmung gemeinsam zu verbringen. \nWelches Gebäck essen Sie in der Vorweihnachtszeit am liebsten? Wir freuen uns über eine Sorte Ihres Lieblingsgebäcks\, die gerne bis zum Mittwoch\, den 29.11.23\, bei Ute Hüweler abgegeben werden kann\, damit die bunt zusammengestellten Tüten voller Leckereien bis samstags vorbereitet werden können. Im Voraus bereits vielen Dank für das Engagement. \nIn diesem Sinne freuen wir uns auf ein schönes Beisammensein und auf die Zeit\, die wir uns bewusst dafür nehmen möchten. \nEure Vorstandsfrauen
URL:https://lasel.de/event/einstimmen-auf-den-advent-2/
LOCATION:Pfarrhaus Lasel\, Feuerscheider Str. 4\, Lasel\, Rheinland-Pfalz\, 54612\, Deutschland
CATEGORIES:Frauengemeinschaft Lasel
ORGANIZER;CN="Frauengemeinschaft Lasel":MAILTO:info@lasel.de
END:VEVENT
END:VCALENDAR